BEGIN:VCALENDAR
VERSION:2.0
PRODID:-//VIVACE - ECPv6.15.20//NONSGML v1.0//EN
CALSCALE:GREGORIAN
METHOD:PUBLISH
X-WR-CALNAME:VIVACE
X-ORIGINAL-URL:https://vivaceboston.org
X-WR-CALDESC:Events for VIVACE
REFRESH-INTERVAL;VALUE=DURATION:PT1H
X-Robots-Tag:noindex
X-PUBLISHED-TTL:PT1H
BEGIN:VTIMEZONE
TZID:America/New_York
BEGIN:DAYLIGHT
TZOFFSETFROM:-0500
TZOFFSETTO:-0400
TZNAME:EDT
DTSTART:20230312T070000
END:DAYLIGHT
BEGIN:STANDARD
TZOFFSETFROM:-0400
TZOFFSETTO:-0500
TZNAME:EST
DTSTART:20231105T060000
END:STANDARD
BEGIN:DAYLIGHT
TZOFFSETFROM:-0500
TZOFFSETTO:-0400
TZNAME:EDT
DTSTART:20240310T070000
END:DAYLIGHT
BEGIN:STANDARD
TZOFFSETFROM:-0400
TZOFFSETTO:-0500
TZNAME:EST
DTSTART:20241103T060000
END:STANDARD
BEGIN:DAYLIGHT
TZOFFSETFROM:-0500
TZOFFSETTO:-0400
TZNAME:EDT
DTSTART:20250309T070000
END:DAYLIGHT
BEGIN:STANDARD
TZOFFSETFROM:-0400
TZOFFSETTO:-0500
TZNAME:EST
DTSTART:20251102T060000
END:STANDARD
BEGIN:DAYLIGHT
TZOFFSETFROM:-0500
TZOFFSETTO:-0400
TZNAME:EDT
DTSTART:20260308T070000
END:DAYLIGHT
BEGIN:STANDARD
TZOFFSETFROM:-0400
TZOFFSETTO:-0500
TZNAME:EST
DTSTART:20261101T060000
END:STANDARD
BEGIN:DAYLIGHT
TZOFFSETFROM:-0500
TZOFFSETTO:-0400
TZNAME:EDT
DTSTART:20270314T070000
END:DAYLIGHT
BEGIN:STANDARD
TZOFFSETFROM:-0400
TZOFFSETTO:-0500
TZNAME:EST
DTSTART:20271107T060000
END:STANDARD
END:VTIMEZONE
BEGIN:VEVENT
DTSTART;TZID=America/New_York:20241123T130000
DTEND;TZID=America/New_York:20241123T150000
DTSTAMP:20260422T180019
CREATED:20240904T150958Z
LAST-MODIFIED:20240904T152614Z
UID:2172-1732366800-1732374000@vivaceboston.org
SUMMARY:Workshop by Will Silvio
DESCRIPTION:
URL:https://vivaceboston.org/events/2172/
LOCATION:MA
ATTACH;FMTTYPE=image/jpeg:https://vivaceboston.org/wp-content/uploads/2024/09/Jazz-in-Ogose_Workshop_page-0001.jpg
END:VEVENT
BEGIN:VEVENT
DTSTART;TZID=America/New_York:20241124T140000
DTEND;TZID=America/New_York:20241124T160000
DTSTAMP:20260422T180019
CREATED:20240904T150351Z
LAST-MODIFIED:20240904T151830Z
UID:2159-1732456800-1732464000@vivaceboston.org
SUMMARY:WILL SILVIO QUARTET ~JAZZ LIVE in Ogose~
DESCRIPTION:
URL:https://vivaceboston.org/events/will-silvio-cartet-jazz-live-in-ogose/
LOCATION:MA
ATTACH;FMTTYPE=image/jpeg:https://vivaceboston.org/wp-content/uploads/2024/09/Jazz-Live-Ogose_2024_page-0001.jpg
END:VEVENT
BEGIN:VEVENT
DTSTART;TZID=America/New_York:20241130T140000
DTEND;TZID=America/New_York:20241130T160000
DTSTAMP:20260422T180019
CREATED:20240719T050239Z
LAST-MODIFIED:20240719T050847Z
UID:2129-1732975200-1732982400@vivaceboston.org
SUMMARY:Afternoon Jazz
DESCRIPTION:
URL:https://vivaceboston.org/events/afternoon-jazz/
LOCATION:MA
CATEGORIES:Concert
ATTACH;FMTTYPE=image/jpeg:https://vivaceboston.org/wp-content/uploads/2024/07/Afternoon-Jazz-Flyer-Final-Ver.-.jpg
END:VEVENT
BEGIN:VEVENT
DTSTART;TZID=America/New_York:20260524T150000
DTEND;TZID=America/New_York:20260524T170000
DTSTAMP:20260422T180019
CREATED:20260319T034704Z
LAST-MODIFIED:20260319T041403Z
UID:3001-1779634800-1779642000@vivaceboston.org
SUMMARY:Music in the Gallery "Adventures of John Manjiro"
DESCRIPTION:
URL:https://vivaceboston.org/events/music-in-the-gallery-adventures-of-john-manjiro/
LOCATION:Kaji Aso Studio\, 40 St Stephen St\, Boston\, MA\, 02115\, United States
CATEGORIES:Concert
ATTACH;FMTTYPE=image/png:https://vivaceboston.org/wp-content/uploads/2026/03/Kaji-Aso-and-Vivace_Concert-Flyer.png
END:VEVENT
END:VCALENDAR