BEGIN:VCALENDAR
VERSION:2.0
PRODID:-//VIVACE - ECPv6.15.20//NONSGML v1.0//EN
CALSCALE:GREGORIAN
METHOD:PUBLISH
X-ORIGINAL-URL:https://vivaceboston.org
X-WR-CALDESC:Events for VIVACE
REFRESH-INTERVAL;VALUE=DURATION:PT1H
X-Robots-Tag:noindex
X-PUBLISHED-TTL:PT1H
BEGIN:VTIMEZONE
TZID:America/New_York
BEGIN:DAYLIGHT
TZOFFSETFROM:-0500
TZOFFSETTO:-0400
TZNAME:EDT
DTSTART:20230312T070000
END:DAYLIGHT
BEGIN:STANDARD
TZOFFSETFROM:-0400
TZOFFSETTO:-0500
TZNAME:EST
DTSTART:20231105T060000
END:STANDARD
BEGIN:DAYLIGHT
TZOFFSETFROM:-0500
TZOFFSETTO:-0400
TZNAME:EDT
DTSTART:20240310T070000
END:DAYLIGHT
BEGIN:STANDARD
TZOFFSETFROM:-0400
TZOFFSETTO:-0500
TZNAME:EST
DTSTART:20241103T060000
END:STANDARD
BEGIN:DAYLIGHT
TZOFFSETFROM:-0500
TZOFFSETTO:-0400
TZNAME:EDT
DTSTART:20250309T070000
END:DAYLIGHT
BEGIN:STANDARD
TZOFFSETFROM:-0400
TZOFFSETTO:-0500
TZNAME:EST
DTSTART:20251102T060000
END:STANDARD
END:VTIMEZONE
BEGIN:VEVENT
DTSTART;TZID=America/New_York:20241130T140000
DTEND;TZID=America/New_York:20241130T160000
DTSTAMP:20260421T114543
CREATED:20240719T050239Z
LAST-MODIFIED:20240719T050847Z
UID:2129-1732975200-1732982400@vivaceboston.org
SUMMARY:Afternoon Jazz
DESCRIPTION:
URL:https://vivaceboston.org/events/afternoon-jazz/
LOCATION:MA
CATEGORIES:Concert
ATTACH;FMTTYPE=image/jpeg:https://vivaceboston.org/wp-content/uploads/2024/07/Afternoon-Jazz-Flyer-Final-Ver.-.jpg
END:VEVENT
END:VCALENDAR